BEGIN:VCALENDAR
VERSION:2.0
PRODID:http://www.egotec.com/
METHOD:PUBLISH
BEGIN:VTIMEZONE
X-LIC-LOCATION:Europe/Berlin
TZID:Europe/Berlin
END:VTIMEZONE
BEGIN:VEVENT
CREATED:20260423T131722Z
SUMMARY:Zeitungsarchive
DTSTART:20260527T103000Z
DTEND:20260527T110000Z
LOCATION:Online
DESCRIPTION:Zeitungsarchive\n\nThULB Coffee Lectures online: Praktische Tipps und Werkzeuge für das wissenschaftliche Arbeiten.\n\nhttps://www.physik.uni-jena.de/39589/zeitungsarchive\n\n\nVideochat – Zoom\nhttps://uni-jena-de.zoom-x.de/j/63363247891\nPasswort: 639817
END:VEVENT
END:VCALENDAR
