BEGIN:VCALENDAR
VERSION:2.0
PRODID:http://www.egotec.com/
METHOD:PUBLISH
BEGIN:VTIMEZONE
X-LIC-LOCATION:Europe/Berlin
TZID:Europe/Berlin
END:VTIMEZONE
BEGIN:VEVENT
CREATED:20260423T142808Z
SUMMARY:Von Katzen, Quanten und Computern
DTSTART:20260504T150000Z
DTEND:20260504T160000Z
LOCATION:Präsenz und Online
DESCRIPTION:Von Katzen, Quanten und Computern\n\nKolloquiumsvortrag von Prof. Dr. Jens Eisert\n\nhttps://www.physik.uni-jena.de/39567/kolloquium-sose-26-eisert\n\n\nHörsaal 1, Max-Wien-Platz 1, Jena\n\nLivestream\nhttps://online.mmz.uni-jena.de/beta/livestream/?hsid=2251_hsabb1
END:VEVENT
END:VCALENDAR
