BEGIN:VCALENDAR
VERSION:2.0
PRODID:http://www.egotec.com/
METHOD:PUBLISH
BEGIN:VTIMEZONE
X-LIC-LOCATION:Europe/Berlin
TZID:Europe/Berlin
END:VTIMEZONE
BEGIN:VEVENT
CREATED:20260408T100806Z
SUMMARY:Kognitive Aktivierung im Physikstudium
DTSTART:20260518T141500Z
DTEND:20260518T154500Z
LOCATION:Präsenz und Online
DESCRIPTION:Kognitive Aktivierung im Physikstudium\n\nKolloquiumsvortrag von Dr. Philipp Scheiger\n\nhttps://www.physik.uni-jena.de/39369/kolloquium-sose-2026-scheiger\n\n\nAbbeanum Hörsaal 1, Fröbelstieg 1, Jena\n\nLivestream
END:VEVENT
END:VCALENDAR
